BEGIN:VCALENDAR
VERSION:2.0
PRODID:-//Samenwerkingsverband Primair Onderwijs Duin- en Bollenstreek - ECPv6.15.20//NONSGML v1.0//EN
CALSCALE:GREGORIAN
METHOD:PUBLISH
X-WR-CALNAME:Samenwerkingsverband Primair Onderwijs Duin- en Bollenstreek
X-ORIGINAL-URL:https://swv-db.nl
X-WR-CALDESC:Evenementen voor Samenwerkingsverband Primair Onderwijs Duin- en Bollenstreek
REFRESH-INTERVAL;VALUE=DURATION:PT1H
X-Robots-Tag:noindex
X-PUBLISHED-TTL:PT1H
BEGIN:VTIMEZONE
TZID:Europe/Amsterdam
BEGIN:DAYLIGHT
TZOFFSETFROM:+0100
TZOFFSETTO:+0200
TZNAME:CEST
DTSTART:20230326T010000
END:DAYLIGHT
BEGIN:STANDARD
TZOFFSETFROM:+0200
TZOFFSETTO:+0100
TZNAME:CET
DTSTART:20231029T010000
END:STANDARD
BEGIN:DAYLIGHT
TZOFFSETFROM:+0100
TZOFFSETTO:+0200
TZNAME:CEST
DTSTART:20240331T010000
END:DAYLIGHT
BEGIN:STANDARD
TZOFFSETFROM:+0200
TZOFFSETTO:+0100
TZNAME:CET
DTSTART:20241027T010000
END:STANDARD
BEGIN:DAYLIGHT
TZOFFSETFROM:+0100
TZOFFSETTO:+0200
TZNAME:CEST
DTSTART:20250330T010000
END:DAYLIGHT
BEGIN:STANDARD
TZOFFSETFROM:+0200
TZOFFSETTO:+0100
TZNAME:CET
DTSTART:20251026T010000
END:STANDARD
END:VTIMEZONE
BEGIN:VEVENT
DTSTART;TZID=Europe/Amsterdam:20240201T140000
DTEND;TZID=Europe/Amsterdam:20240201T160000
DTSTAMP:20260419T195907
CREATED:20230724T122613Z
LAST-MODIFIED:20240126T161202Z
UID:10000001-1706796000-1706803200@swv-db.nl
SUMMARY:Introductiebijeenkomst
DESCRIPTION:Twee keer per jaar geven we een introductie bijeenkomst voor nieuwe medewerkers uit het hele veld (scholen\, besturen\, jeugdhulp\, onderwijsondersteuners\, gemeente etc). Tijdens de bijeenkomst geven we informatie over het samenwerkingsverband\, wie zijn we? Wat doen we? Voor welke uitdagingen staan we? En wat is jouw rol binnen het geheel. \n  \nSchrijf je in via dit formulier: \n\n 
URL:https://swv-db.nl/agenda/introductiebijeenkomstfeb/
LOCATION:Het Anker\, Voorstraat 74\, Katwijk\, 2225ES
ORGANIZER;CN="SWV PO Duin- en Bollenstreek":MAILTO:info@swv-db.nl
END:VEVENT
BEGIN:VEVENT
DTSTART;TZID=Europe/Amsterdam:20240206T110000
DTEND;TZID=Europe/Amsterdam:20240206T130000
DTSTAMP:20260419T195907
CREATED:20231013T131638Z
LAST-MODIFIED:20231215T142049Z
UID:10000010-1707217200-1707224400@swv-db.nl
SUMMARY:Webinar T-OPP (Talent-OPP) intern begeleiders
DESCRIPTION:Voor de meeste (hoog)begaafde leerlingen in jouw school volstaat de ‘basisaanpak’ van verrijken\, compacten en versnellen\, waarbij je ook extra alert bent op de pedagogische basisbehoeften (autonomie\, competentie en relatie). Maar wanneer het onvoldoende lukt om af te stemmen op de specifieke onderwijsbehoeften\, de hoogbegaafde leerling onder zijn/haar niveau presteert en er problemen zijn in de motivatie\, leerhouding en/of sociaal emotioneel functioneren\, dan is er meer nodig. \nIn dit webinar krijg je antwoord op de volgende vragen: wat is een T-OPP\, wanneer stel je een T-OPP op\, hoe stel je een T-OPP op en wat is er voorafgaand aan het maken van een T-OPP nodig om het op te kunnen stellen (het voortraject). \nAan het eind van het webinar weet je wat het inhoudt om een T-OPP te schrijven\, heb je inzicht in wat er nodig is in het voortraject van een T-OPP en heb je nagedacht over hoe dit op dit moment gerealiseerd is binnen jouw school. \nDe webinar is achteraf ook terug te kijken. \n\n 
URL:https://swv-db.nl/agenda/talentopp/
LOCATION:Online
ORGANIZER;CN="SWV PO Duin- en Bollenstreek":MAILTO:info@swv-db.nl
END:VEVENT
BEGIN:VEVENT
DTSTART;TZID=Europe/Amsterdam:20240215T090000
DTEND;TZID=Europe/Amsterdam:20240215T170000
DTSTAMP:20260419T195907
CREATED:20231013T132923Z
LAST-MODIFIED:20240110T111305Z
UID:10000015-1707987600-1708016400@swv-db.nl
SUMMARY:Studiedag
DESCRIPTION:Hier vind je meer informatie over het programma en de workshops. 
URL:https://swv-db.nl/agenda/studiedag/
LOCATION:Van der Valk\, Warmonderweg 8\, Sassenheim\, 2171 AH
ORGANIZER;CN="SWV PO Duin- en Bollenstreek":MAILTO:info@swv-db.nl
END:VEVENT
END:VCALENDAR