BEGIN:VCALENDAR
VERSION:2.0
PRODID:-//Samenwerkingsverband Primair Onderwijs Duin- en Bollenstreek - ECPv6.15.20//NONSGML v1.0//EN
CALSCALE:GREGORIAN
METHOD:PUBLISH
X-WR-CALNAME:Samenwerkingsverband Primair Onderwijs Duin- en Bollenstreek
X-ORIGINAL-URL:https://swv-db.nl
X-WR-CALDESC:Evenementen voor Samenwerkingsverband Primair Onderwijs Duin- en Bollenstreek
REFRESH-INTERVAL;VALUE=DURATION:PT1H
X-Robots-Tag:noindex
X-PUBLISHED-TTL:PT1H
BEGIN:VTIMEZONE
TZID:Europe/Amsterdam
BEGIN:DAYLIGHT
TZOFFSETFROM:+0100
TZOFFSETTO:+0200
TZNAME:CEST
DTSTART:20230326T010000
END:DAYLIGHT
BEGIN:STANDARD
TZOFFSETFROM:+0200
TZOFFSETTO:+0100
TZNAME:CET
DTSTART:20231029T010000
END:STANDARD
BEGIN:DAYLIGHT
TZOFFSETFROM:+0100
TZOFFSETTO:+0200
TZNAME:CEST
DTSTART:20240331T010000
END:DAYLIGHT
BEGIN:STANDARD
TZOFFSETFROM:+0200
TZOFFSETTO:+0100
TZNAME:CET
DTSTART:20241027T010000
END:STANDARD
BEGIN:DAYLIGHT
TZOFFSETFROM:+0100
TZOFFSETTO:+0200
TZNAME:CEST
DTSTART:20250330T010000
END:DAYLIGHT
BEGIN:STANDARD
TZOFFSETFROM:+0200
TZOFFSETTO:+0100
TZNAME:CET
DTSTART:20251026T010000
END:STANDARD
END:VTIMEZONE
BEGIN:VEVENT
DTSTART;TZID=Europe/Amsterdam:20240404T130000
DTEND;TZID=Europe/Amsterdam:20240404T150000
DTSTAMP:20260419T164919
CREATED:20231013T132627Z
LAST-MODIFIED:20240122T115305Z
UID:10000013-1712235600-1712242800@swv-db.nl
SUMMARY:Training Grippa/OPP
DESCRIPTION:Na de meivakantie stoppen we met het werken in Groeidocument en stappen we over naar Grippa. De TLV-aanvraag zal via dit systeem gaan lopen\, evenals het aanvragen van een onderwijsspecialist. Alle beheerders die nu actief zijn in Groeidocument worden gevraagd om deze training te volgen. De trainingen bestaat uit 2 onderdelen: \n\nPraktische training werken in Grippa\nOPP\n\nWe gaan praktisch aan de slag\, dus zorg ervoor dat je je device mee hebt! \n\n 
URL:https://swv-db.nl/agenda/themabijeenkomstvoorjaardonderdag/
LOCATION:Het Anker\, Voorstraat 74\, Katwijk\, 2225ES
ORGANIZER;CN="SWV PO Duin- en Bollenstreek":MAILTO:info@swv-db.nl
END:VEVENT
BEGIN:VEVENT
DTSTART;TZID=Europe/Amsterdam:20240404T150000
DTEND;TZID=Europe/Amsterdam:20240404T170000
DTSTAMP:20260419T164919
CREATED:20240119T113404Z
LAST-MODIFIED:20240122T115250Z
UID:10000019-1712242800-1712250000@swv-db.nl
SUMMARY:Training Grippa/OPP
DESCRIPTION:Na de meivakantie stoppen we met het werken in Groeidocument en stappen we over naar Grippa. De TLV-aanvraag zal via dit systeem gaan lopen\, evenals het aanvragen van een onderwijsspecialist. Alle beheerders die nu actief zijn in Groeidocument worden gevraagd om deze training te volgen. De trainingen bestaat uit 2 onderdelen: \n\nPraktische training werken in Grippa\nOPP\n\nWe gaan praktisch aan de slag\, dus zorg ervoor dat je je device mee hebt! \n\n 
URL:https://swv-db.nl/agenda/grippaopp2/
LOCATION:Het Anker\, Voorstraat 74\, Katwijk\, 2225ES
ORGANIZER;CN="SWV PO Duin- en Bollenstreek":MAILTO:info@swv-db.nl
END:VEVENT
BEGIN:VEVENT
DTSTART;TZID=Europe/Amsterdam:20240409T090000
DTEND;TZID=Europe/Amsterdam:20240409T110000
DTSTAMP:20260419T164919
CREATED:20231013T132633Z
LAST-MODIFIED:20240122T115230Z
UID:10000014-1712653200-1712660400@swv-db.nl
SUMMARY:Training Grippa/OPP
DESCRIPTION:Na de meivakantie stoppen we met het werken in Groeidocument en stappen we over naar Grippa. De TLV-aanvraag zal via dit systeem gaan lopen\, evenals het aanvragen van een onderwijsspecialist. Alle beheerders die nu actief zijn in Groeidocument worden gevraagd om deze training te volgen. De trainingen bestaat uit 2 onderdelen: \n\nPraktische training werken in Grippa\nOPP\n\nWe gaan praktisch aan de slag\, dus zorg ervoor dat je je device mee hebt!
URL:https://swv-db.nl/agenda/grippaoppdinsdag/
LOCATION:Het Anker\, Voorstraat 74\, Katwijk\, 2225ES
ORGANIZER;CN="SWV PO Duin- en Bollenstreek":MAILTO:info@swv-db.nl
END:VEVENT
BEGIN:VEVENT
DTSTART;TZID=Europe/Amsterdam:20240416T113000
DTEND;TZID=Europe/Amsterdam:20240416T133000
DTSTAMP:20260419T164919
CREATED:20231013T132231Z
LAST-MODIFIED:20240410T132853Z
UID:10000012-1713267000-1713274200@swv-db.nl
SUMMARY:Webinar landelijke ontwikkelingen voor directeuren - geannuleerd
DESCRIPTION:  \n 
URL:https://swv-db.nl/agenda/test-introductiebijeenkomst-copy-2-copy-copy-copy/
LOCATION:Online
ORGANIZER;CN="SWV PO Duin- en Bollenstreek":MAILTO:info@swv-db.nl
END:VEVENT
END:VCALENDAR