BEGIN:VCALENDAR
VERSION:2.0
PRODID:-//Samenwerkingsverband Primair Onderwijs Duin- en Bollenstreek - ECPv6.15.20//NONSGML v1.0//EN
CALSCALE:GREGORIAN
METHOD:PUBLISH
X-WR-CALNAME:Samenwerkingsverband Primair Onderwijs Duin- en Bollenstreek
X-ORIGINAL-URL:https://swv-db.nl
X-WR-CALDESC:Evenementen voor Samenwerkingsverband Primair Onderwijs Duin- en Bollenstreek
REFRESH-INTERVAL;VALUE=DURATION:PT1H
X-Robots-Tag:noindex
X-PUBLISHED-TTL:PT1H
BEGIN:VTIMEZONE
TZID:Europe/Amsterdam
BEGIN:DAYLIGHT
TZOFFSETFROM:+0100
TZOFFSETTO:+0200
TZNAME:CEST
DTSTART:20230326T010000
END:DAYLIGHT
BEGIN:STANDARD
TZOFFSETFROM:+0200
TZOFFSETTO:+0100
TZNAME:CET
DTSTART:20231029T010000
END:STANDARD
BEGIN:DAYLIGHT
TZOFFSETFROM:+0100
TZOFFSETTO:+0200
TZNAME:CEST
DTSTART:20240331T010000
END:DAYLIGHT
BEGIN:STANDARD
TZOFFSETFROM:+0200
TZOFFSETTO:+0100
TZNAME:CET
DTSTART:20241027T010000
END:STANDARD
BEGIN:DAYLIGHT
TZOFFSETFROM:+0100
TZOFFSETTO:+0200
TZNAME:CEST
DTSTART:20250330T010000
END:DAYLIGHT
BEGIN:STANDARD
TZOFFSETFROM:+0200
TZOFFSETTO:+0100
TZNAME:CET
DTSTART:20251026T010000
END:STANDARD
END:VTIMEZONE
BEGIN:VEVENT
DTSTART;TZID=Europe/Amsterdam:20240910T090000
DTEND;TZID=Europe/Amsterdam:20240910T110000
DTSTAMP:20260419T232131
CREATED:20240902T080824Z
LAST-MODIFIED:20240902T090636Z
UID:10000021-1725958800-1725966000@swv-db.nl
SUMMARY:Webinar - Thema hoogbegaafdheid - De brug tussen thuisklas en plusklas
DESCRIPTION:Inspelen op de intellectuele behoeften van je kinderen met kenmerken van begaafdheid is\neen flink puzzel. Het verschil tussen het leerprogramma in de reguliere en de plusklas kan flink groot zijn.\nWat kun je als leraar doen dit verschil te verkleinen?\nDit webinar behandelt praktische tips en werkvormen die jou helpen de plusklassers ook in de eigen klas\nte voorzien van uitdaging en leer-avontuur. En het mooie is… het is allemaal (in meer of mindere mate)\nook geschikt voor alle andere leerlingen in je klas! \nAls je je inschrijft krijg je een week van tevoren de link van de webinar toegestuurd.\nDe meeste webinars worden opgenomen en zijn terug te kijken via onze website.
URL:https://swv-db.nl/agenda/webinar-thema-hoogbegaafdheid-2/
LOCATION:Online
END:VEVENT
BEGIN:VEVENT
DTSTART;TZID=Europe/Amsterdam:20240924T150000
DTEND;TZID=Europe/Amsterdam:20240924T170000
DTSTAMP:20260419T232131
CREATED:20240903T090026Z
LAST-MODIFIED:20240903T090115Z
UID:10000045-1727190000-1727197200@swv-db.nl
SUMMARY:Informatiewebinar leesproblemen en dyslexie voor ib-ers
DESCRIPTION:Schrijf je in via deze link.  \nEvenals voorgaande jaren willen we de intern begeleiders weer volledig bijpraten over de ontwikkelingen rondom leesproblemen en dyslexie. We starten het webinar met een deel voor startende intern begeleiders en/of intern begeleiders die nieuw zijn in onze regio. Daarna vervolgen we ons programma voor alle ib’ers. We praten u bij over de monitor en gehouden bestuursgesprekken\, de regionale en landelijke ontwikkelingen en er is ruimte voor vragen. \nHet live-webinar zal worden gehouden op dinsdag 24 september van 15.00 – 17.00 en wordt zoals gebruikelijk gegeven door Jolanda Roelfsema. Van het webinar wordt een opname gemaakt. \nU kunt zich inschrijven tot uiterlijk 16 september via de inschrijflink. Na inschrijving ontvangt u op maandag 23 september een link voor het webinar. U kunt zich hier ook inschrijven voor een terugkijklink. \nHet programma is als volgt: \n14.45: digitale inloop \n15.00 – 15.55: programma voor startende intern begeleiders \n15.55 – 16.00: toelaten deelnemers voor het tweede deel \n16.00 – 17.00: programma voor alle intern begeleiders \n  \n 
URL:https://swv-db.nl/agenda/informatiewebinar-leesproblemen-en-dyslexie-voor-ib-ers/
LOCATION:Online
END:VEVENT
BEGIN:VEVENT
DTSTART;TZID=Europe/Amsterdam:20240926T140000
DTEND;TZID=Europe/Amsterdam:20240926T160000
DTSTAMP:20260419T232131
CREATED:20240704T073951Z
LAST-MODIFIED:20240919T072959Z
UID:10000030-1727359200-1727366400@swv-db.nl
SUMMARY:Introductiebijeenkomst
DESCRIPTION:Twee keer per jaar geven we een introductie bijeenkomst voor nieuwe medewerkers uit het hele veld (scholen\, besturen\, jeugdhulp\, onderwijsondersteuners\, gemeente etc). Tijdens de bijeenkomst geven we informatie over het samenwerkingsverband\, wie zijn we? Wat doen we? Voor welke uitdagingen staan we? En wat is jouw rol binnen het geheel. \n\n 
URL:https://swv-db.nl/agenda/introductiebijeenkomstfeb-copy-2/
LOCATION:SWV PO Duin- en Bollenstreek\, Bonnikeplein 24-26\, Noordwijk\, 2201 XA\, Nederland
ORGANIZER;CN="SWV PO Duin- en Bollenstreek":MAILTO:info@swv-db.nl
END:VEVENT
END:VCALENDAR