BEGIN:VCALENDAR
VERSION:2.0
PRODID:-//Samenwerkingsverband Primair Onderwijs Duin- en Bollenstreek - ECPv6.15.20//NONSGML v1.0//EN
CALSCALE:GREGORIAN
METHOD:PUBLISH
X-ORIGINAL-URL:https://swv-db.nl
X-WR-CALDESC:Evenementen voor Samenwerkingsverband Primair Onderwijs Duin- en Bollenstreek
REFRESH-INTERVAL;VALUE=DURATION:PT1H
X-Robots-Tag:noindex
X-PUBLISHED-TTL:PT1H
BEGIN:VTIMEZONE
TZID:Europe/Amsterdam
BEGIN:DAYLIGHT
TZOFFSETFROM:+0100
TZOFFSETTO:+0200
TZNAME:CEST
DTSTART:20240331T010000
END:DAYLIGHT
BEGIN:STANDARD
TZOFFSETFROM:+0200
TZOFFSETTO:+0100
TZNAME:CET
DTSTART:20241027T010000
END:STANDARD
BEGIN:DAYLIGHT
TZOFFSETFROM:+0100
TZOFFSETTO:+0200
TZNAME:CEST
DTSTART:20250330T010000
END:DAYLIGHT
BEGIN:STANDARD
TZOFFSETFROM:+0200
TZOFFSETTO:+0100
TZNAME:CET
DTSTART:20251026T010000
END:STANDARD
BEGIN:DAYLIGHT
TZOFFSETFROM:+0100
TZOFFSETTO:+0200
TZNAME:CEST
DTSTART:20260329T010000
END:DAYLIGHT
BEGIN:STANDARD
TZOFFSETFROM:+0200
TZOFFSETTO:+0100
TZNAME:CET
DTSTART:20261025T010000
END:STANDARD
END:VTIMEZONE
BEGIN:VEVENT
DTSTART;TZID=Europe/Amsterdam:20250513T090000
DTEND;TZID=Europe/Amsterdam:20250513T110000
DTSTAMP:20260421T122203
CREATED:20250422T124525Z
LAST-MODIFIED:20250422T125830Z
UID:10000066-1747126800-1747134000@swv-db.nl
SUMMARY:Webinar - Gedrag
DESCRIPTION:In het laatste ‘gedragswebinar’ van dit schooljaar gaan we terug naar de basis: het aanleren van gedrag.  Aan de hand van het werk van bijvoorbeeld Tom Bennett en Olivia Dear gaat Kees Guijt in op de vraag hoe je gedrag aan kunt leren op school. Want ‘gedrag’ is een vak – kinderen moeten het leren. En net als bij een vak ligt er een soort van curriculum aan ten grondslag.  Hoe dat er uit kan zien\, komt in de webinar ter sprake. \nAls je je inschrijft krijg je een week van tevoren de link van de webinar toegestuurd.\nDe meeste webinars worden opgenomen en zijn terug te kijken via onze website.
URL:https://swv-db.nl/agenda/webinar-gedrag-copy/
LOCATION:Online
ORGANIZER;CN="SWV PO Duin- en Bollenstreek":MAILTO:info@swv-db.nl
END:VEVENT
BEGIN:VEVENT
DTSTART;TZID=Europe/Amsterdam:20250514T130000
DTEND;TZID=Europe/Amsterdam:20250514T153000
DTSTAMP:20260421T122203
CREATED:20250127T132018Z
LAST-MODIFIED:20250127T132804Z
UID:10000054-1747227600-1747236600@swv-db.nl
SUMMARY:Thematraining Jonge Kind
DESCRIPTION:Samen werken aan kansrijke start voor jonge kinderen\nOp woensdagmiddag 26 maart en 14 mei wordt er een scholing Jonge Kind gegeven voor intern begeleiders en directeuren binnen ons samenwerkingsverband. \nDe laatste jaren zien we steeds vaker dat startende kleuters met zorgen de school binnenkomen. Dit vraagt om een zorgvuldige aanpak die niet alleen gericht is op het begrijpen van de ontwikkeling van het jonge kind\, maar ook op het vinden van effectieve oplossingen. In deze twee bijeenkomsten gaan we samen onderzoeken wat werkt en hoe we onze aanpak kunnen verbeteren. \nWat bieden we? \n\nInzicht in het jonge brein: Wetenschappelijke kennis over leren\, gedrag en verwachtingen van jonge kinderen.\n Praktische vertaling naar de schoolpraktijk: Identificeer sterke punten én verbeterpunten in je huidige aanpak\nInclusieve onderwijspraktijk: Leer strategieën voor het bieden van kansrijke start voor alle kinderen\, met extra aandacht voor leerlingen die ondersteuning nodig hebben.\n\nDe workshops worden gegeven door de AED\, de trainers zijn Dominique Miedema en Wieneke Grootaarts. \nVoor wie? \nIntern begeleider en directie. \nWaarom deelnemen? \nKrijg meer inzicht en handvatten om startende kleuters te ondersteunen. Samen bouwen we aan een onderwijsaanpak die werkt voor elk kind. \nLet op!\nDeze scholing bevat beide middagen. Je hoeft je maar 1 keer in te schrijven. \nKosten zijn €45\,- voor beide middagen. 
URL:https://swv-db.nl/agenda/thematraining-jonge-kind-deel-1/2025-05-14/
LOCATION:Het Anker\, Voorstraat 74\, Katwijk\, 2225ES
ORGANIZER;CN="SWV PO Duin- en Bollenstreek":MAILTO:info@swv-db.nl
END:VEVENT
BEGIN:VEVENT
DTSTART;TZID=Europe/Amsterdam:20250522T090000
DTEND;TZID=Europe/Amsterdam:20250522T110000
DTSTAMP:20260421T122203
CREATED:20250128T091207Z
LAST-MODIFIED:20250512T114110Z
UID:10000055-1747904400-1747911600@swv-db.nl
SUMMARY:Webinar - Hoorrecht
DESCRIPTION:Vanaf 1 augustus 2025 treedt de wet ‘Versterking positie ouders en leerlingen in passend onderwijs’ in werking. Vanaf deze datum zijn scholen verplicht leerlingen hoorrecht te geven over hun ontwikkelingsperspectief. \nIn dit webinar verzorgd door Simone van Dijk (simonetraint.nl) worden tips en tricks die je in de praktijk op school toe kunt passen besproken\, zodat je goed vorm kunt geven aan de stem van de leerling die extra ondersteuning behoeft. \n  \nDit webinar is alleen terug te kijken van 2 t/m 6 juni. \n 
URL:https://swv-db.nl/agenda/webinar-hoorrecht/
LOCATION:Online
ORGANIZER;CN="SWV PO Duin- en Bollenstreek":MAILTO:info@swv-db.nl
END:VEVENT
END:VCALENDAR