BEGIN:VCALENDAR
VERSION:2.0
PRODID:-//Samenwerkingsverband Primair Onderwijs Duin- en Bollenstreek - ECPv6.15.20//NONSGML v1.0//EN
CALSCALE:GREGORIAN
METHOD:PUBLISH
X-ORIGINAL-URL:https://swv-db.nl
X-WR-CALDESC:Evenementen voor Samenwerkingsverband Primair Onderwijs Duin- en Bollenstreek
REFRESH-INTERVAL;VALUE=DURATION:PT1H
X-Robots-Tag:noindex
X-PUBLISHED-TTL:PT1H
BEGIN:VTIMEZONE
TZID:Europe/Amsterdam
BEGIN:DAYLIGHT
TZOFFSETFROM:+0100
TZOFFSETTO:+0200
TZNAME:CEST
DTSTART:20240331T010000
END:DAYLIGHT
BEGIN:STANDARD
TZOFFSETFROM:+0200
TZOFFSETTO:+0100
TZNAME:CET
DTSTART:20241027T010000
END:STANDARD
BEGIN:DAYLIGHT
TZOFFSETFROM:+0100
TZOFFSETTO:+0200
TZNAME:CEST
DTSTART:20250330T010000
END:DAYLIGHT
BEGIN:STANDARD
TZOFFSETFROM:+0200
TZOFFSETTO:+0100
TZNAME:CET
DTSTART:20251026T010000
END:STANDARD
BEGIN:DAYLIGHT
TZOFFSETFROM:+0100
TZOFFSETTO:+0200
TZNAME:CEST
DTSTART:20260329T010000
END:DAYLIGHT
BEGIN:STANDARD
TZOFFSETFROM:+0200
TZOFFSETTO:+0100
TZNAME:CET
DTSTART:20261025T010000
END:STANDARD
END:VTIMEZONE
BEGIN:VEVENT
DTSTART;TZID=Europe/Amsterdam:20251112T120000
DTEND;TZID=Europe/Amsterdam:20251112T170000
DTSTAMP:20260421T122235
CREATED:20250708T145311Z
LAST-MODIFIED:20251028T151212Z
UID:10000074-1762948800-1762966800@swv-db.nl
SUMMARY:Congres (hoog)begaafdheid
DESCRIPTION:Op 12 november 2025 vindt van 12.00 tot 17.00 uur voor de tweede maal het congres Hoogbegaafdheid plaats in het ECC in Leiden. We zijn ontzettend trots dat we jullie opnieuw een mooi programma met een key-note lezing en verschillende workshops aan kunnen bieden. \nDeze middag is bedoeld voor HB-specialisten\, talentbegeleiders\, intern begeleiders\, directieleden\, penvoerders\, bestuurders en kwaliteitsmedewerkers. \nHet doel is om jullie te inspireren en te voorzien van waardevolle kennis\, ervaringen\, tips en praktijkvoorbeelden. \nFemke Hovinga zal de middag beginnen met een lezing met de titel: “(On)gezien – waarom veel hoogbegaafde leerlingen onder de radar blijven”. Daarna volgen twee rondes van workshops\, die ieder 70 minuten duren. Je kunt kiezen uit de volgende workshops: \n\nVroegsignalering van HB in de praktijk door Femke Hovinga\nEen interactieve sessie waar a.d.h.v. korte input en praktijkopdrachten ‘wat kun je morgen met deze informatie doen’- handreikingen worden meegegeven. Aan bod komt het vroegsignaleren in de praktijk (van observatie tot onderwijskundig gesprek)\, casusanalyse en een toolbox met direct toepasbare interventies voor klas en beleid\n\n\nOvergang PO-VO: hoe kunnen we de overgang soepeler laten verlopen door Veronique Swillens\nHoe kunnen we leerlingen zo goed mogelijk voorbereiden?\nWelke vaardigheden zijn een goede voorbereiding op het VO (Denk aan DVO\, EF\, gedrag\, leren)?\nWelke plek is passend voor deze leerlingen? Wat zegt onderzoek?\nKansen: Wat schrijf je in het OKR? Hoe kun je de warme overdracht goed vormgeven? Wie speelt welke rol?\n \nSerious learning games: HB door een VR-bril door Willy de Heer\nMet Serious learning games kun je je in de gedachtenwereld verplaatsen van een ander.\nMet de virtual reality games voor het primair onderwijs kruip je in de huid van een hoogbegaafde leerling. Je ervaart zijn of haar verrassing\, verdriet\, boosheid\, angst\, afkeer en blijdschap.\n \nSamen Sterker: hoogbegaafdheid\, ouders en school door Saskia Huizer\n“Van spanning naar samenwerking: effectieve communicatie met ouders van hoogbegaafde kinderen” De samenwerking tussen school en ouders van hoogbegaafde kinderen kent specifieke uitdagingen. Ouders ervaren thuis vaak andere gedragingen dan wat de school ziet\, en misverstanden kunnen de driehoek kind-ouder-school onder druk zetten. In deze workshop krijgt u inzicht in de belevingswereld van ouders en leert u praktische communicatievaardigheden om de samenwerking te versterken.\n\n\n\nAlleen in ronde 1: Panelgesprek: Is ons dekkend netwerk voor HB van voldoende kwaliteit?  \nVanuit divers perspectief kijken we naar de voorzieningen in onze regio. De afgelopen jaren hebben we gebouwd aan ons dekkend netwerk. Zijn we klaar? Zijn er kinderen die nog geen passende plek vinden en wat hebben zij nodig? Hoe beantwoorden we aan hun onderwijsbehoeften op een manier die recht doet aan inclusie.\nDeelnemers: Marieke Jas - directeur-bestuurder SWV PO Duin en Bollenstreek\, Jeroen van’t Wout - Procesregisseur Onderwijszorg-continuum regio Holland Rijnland\, Margreeth Dreef – intern begeleider Onderwijs-Zorgarrangement Over de grenzen.\n\nJe kunt je tot maandag 3 november 17.00 uur aanmelden.
URL:https://swv-db.nl/agenda/congres-hoogbegaafdheid/
LOCATION:ECC Leiden\, Haagse Schouwweg 10 2332 KG Leiden\, Haagse Schouwweg 10\, Leiden
ORGANIZER;CN="SWV PO Duin- en Bollenstreek":MAILTO:info@swv-db.nl
END:VEVENT
BEGIN:VEVENT
DTSTART;TZID=Europe/Amsterdam:20251113T190000
DTEND;TZID=Europe/Amsterdam:20251113T221500
DTSTAMP:20260421T122235
CREATED:20250708T145519Z
LAST-MODIFIED:20251006T141915Z
UID:10000075-1763060400-1763072100@swv-db.nl
SUMMARY:Filmavond De keus van Kees
DESCRIPTION:Het Samenwerkingsverband organiseert voor alle medewerkers van de scholen een nieuw evenement: een speciale filmavond waarbij ontmoeting en inspiratie centraal staan. \nDe filmavond wordt mede georganiseerd door oud-onderwijsondersteuner Kees Wamelink. \n\n\nAlle professionals (ib\, directie\, leerkracht\, onderwijsondersteuner etc.) van de regio van het SWV kunnen zich aanmelden. \nPROGRAMMA\n19.00 – 19.30 uur:       Ontvangst met koffie/thee\n19.30 uur:                   Welkom en inleiding op de film door Kees Wamelink\n19.40 uur:                   Filmvoorstelling\n21.30 uur:                   Napraten in de foyer met drankje en hapje\n22.15 uur:                   Einde filmavond \n\n\n\n\nOVER DE FILM \nWe gaan voor een actuele film\, die een breed publiek zal aanspreken\, zeker voor iedereen met een onderwijshart:\nTHE TEACHER WHO PROMISED THE SEA (Spanje 2024\, 105 min.) \nDe film begint met de zoektocht van een vrouw\, Ariadna\, die op zoek is naar de plek waar haar vermiste overgrootvader is begraven. Hij is een van de vele slachtoffers van het Franco-regime die in de jaren ’30 opgepakt zijn en ‘verdwenen’. Nog steeds een gevoelig onderwerp in de Spaanse samenleving. In haar zoektocht ontdekt ze het verhaal van leraar Antoni Benaiges\, die in een afgelopen dorp meester wordt van een groep leerlingen van 6-12 jaar\, die hij op een creatieve manier weet te stimuleren en motiveren. Ariadna’s opa was een van zijn leerlingen. Antoni’s vernieuwende onderwijsmethoden is een doorn in het oog van de conservatieve krachten in het dorpje\, maar hij zet door vanwege zijn enorme betrokkenheid bij de kinderen. \nHet is een waargebeurd verhaal\, wat beschreven is in een boek. Ook deze film is een mooi voorbeeld van een leerkracht die het verschil kan maken voor zijn leerlingen. \nHet verhaal speelt zich af in het verleden\, maar heeft ook een actueel thema. Ook nu zijn er conservatieve krachten die willen bepalen wat onze leerlingen mogen lezen\, zoals in de VS waar boeken uit schoolbibliotheken worden verwijderd\, omdat men vindt dat ze schadelijk zijn voor de jeugd (zoals Het Dagboek van Anne Frank!). \nHet is een mooie film\, die hoge ogen gooide op diverse filmfestivals. Op 12 juni 2025 is deze film in Nederland in première gegaan.  De eerste reacties van het publiek zijn veelbelovend. \nHier is een link naar de trailer van de film\, dan krijg een indruk: https://www.youtube.com/watch?v=PCaPzXfjzCs \nWe zien er naar uit om deze bijzondere film met jullie te delen\, en hoe mooi zou het zijn als dat voor een volle zaal is!
URL:https://swv-db.nl/agenda/filmavond-floralis/
LOCATION:Floralis\, Floralisplein 69\, Lisse\, 2161 HX
ORGANIZER;CN="SWV PO Duin- en Bollenstreek":MAILTO:info@swv-db.nl
END:VEVENT
BEGIN:VEVENT
DTSTART;TZID=Europe/Amsterdam:20251120T090000
DTEND;TZID=Europe/Amsterdam:20251120T103000
DTSTAMP:20260421T122235
CREATED:20250708T150614Z
LAST-MODIFIED:20251015T075256Z
UID:10000076-1763629200-1763634600@swv-db.nl
SUMMARY:Grippa opfriscursus
DESCRIPTION:Voor iedereen die weer even opgefrist wil worden op het systeem Grippa. Er is een algemene uitleg van het systeem en je krijgt handige tips & tricks om te werken in het systeem.\nNeem je device mee\, zodat je ook zelf aan de slag kan. \nMeld je hierbij aan
URL:https://swv-db.nl/agenda/grippa-opfriscursus/
LOCATION:SWV PO Duin- en Bollenstreek\, Bonnikeplein 24-26\, Noordwijk\, 2201 XA\, Nederland
ORGANIZER;CN="SWV PO Duin- en Bollenstreek":MAILTO:info@swv-db.nl
END:VEVENT
BEGIN:VEVENT
DTSTART;TZID=Europe/Amsterdam:20251120T133000
DTEND;TZID=Europe/Amsterdam:20251120T170000
DTSTAMP:20260421T122235
CREATED:20250923T091151Z
LAST-MODIFIED:20250923T091151Z
UID:10000099-1763645400-1763658000@swv-db.nl
SUMMARY:Startbijeenkomst Integraal Arrangeren
DESCRIPTION:We nodige je van harte uit voor de startbijeenkomst over integraal arrangeren. Een inspirerende ontmoeting waarin we samen met een brede groep professionals de verbinding leggen. \nIn deze bijeenkomst gaat het over samenwerken. Samen nemen we de verantwoordelijkheid voor kinderen en jongeren. We leren elkaar kennen\, bouwen aan vertrouwen en\ngeven ruimte om te doen wat echt nodig is. \nDe bijeenkomst wordt 3 keer georganiseerd. Bij aanmelding geef je je voorkeur aan: \n\nWoensdag 29 oktober – 13.30-17.00u – Katwijk\nDonderdag 20 november – 13.30-17.00u – Katwijk\nMaandag 24 november – 13.30 – 17.00u – Hillegom\n\nMeer informatie en aanmelding via onderstaande link: \nhttps://swv-db.nl/wp-content/uploads/2025/09/Uitnodiging-Startbijeenkomst-Integraal-Arrangeren.pdf \nAanmelding mogelijk t/m 5 oktober. Begin oktober ontvangen deelnemers per mail meer informatie en documenten ter voorbereiding
URL:https://swv-db.nl/agenda/startbijeenkomst-integraal-arrangeren/
LOCATION:Katwijk
END:VEVENT
BEGIN:VEVENT
DTSTART;TZID=Europe/Amsterdam:20251124T133000
DTEND;TZID=Europe/Amsterdam:20251124T170000
DTSTAMP:20260421T122235
CREATED:20250923T091222Z
LAST-MODIFIED:20250923T091222Z
UID:10000100-1763991000-1764003600@swv-db.nl
SUMMARY:Startbijeenkomst Integraal Arrangeren
DESCRIPTION:We nodige je van harte uit voor de startbijeenkomst over integraal arrangeren. Een inspirerende ontmoeting waarin we samen met een brede groep professionals de verbinding leggen. \nIn deze bijeenkomst gaat het over samenwerken. Samen nemen we de verantwoordelijkheid voor kinderen en jongeren. We leren elkaar kennen\, bouwen aan vertrouwen en\ngeven ruimte om te doen wat echt nodig is. \nDe bijeenkomst wordt 3 keer georganiseerd. Bij aanmelding geef je je voorkeur aan: \n\nWoensdag 29 oktober – 13.30-17.00u – Katwijk\nDonderdag 20 november – 13.30-17.00u – Katwijk\nMaandag 24 november – 13.30 – 17.00u – Hillegom\n\nMeer informatie en aanmelding via onderstaande link: \nhttps://swv-db.nl/wp-content/uploads/2025/09/Uitnodiging-Startbijeenkomst-Integraal-Arrangeren.pdf \nAanmelding mogelijk t/m 5 oktober. Begin oktober ontvangen deelnemers per mail meer informatie en documenten ter voorbereiding
URL:https://swv-db.nl/agenda/startbijeenkomst-integraal-arrangeren-2/
LOCATION:Hillegom
END:VEVENT
END:VCALENDAR